BEGIN:VCALENDAR
VERSION:2.0
PRODID:-//Progressive Mass - ECPv6.15.20//NONSGML v1.0//EN
CALSCALE:GREGORIAN
METHOD:PUBLISH
X-WR-CALNAME:Progressive Mass
X-ORIGINAL-URL:https://www.progressivemass.com
X-WR-CALDESC:Events for Progressive Mass
REFRESH-INTERVAL;VALUE=DURATION:PT1H
X-Robots-Tag:noindex
X-PUBLISHED-TTL:PT1H
BEGIN:VTIMEZONE
TZID:America/New_York
BEGIN:DAYLIGHT
TZOFFSETFROM:-0500
TZOFFSETTO:-0400
TZNAME:EDT
DTSTART:20250309T070000
END:DAYLIGHT
BEGIN:STANDARD
TZOFFSETFROM:-0400
TZOFFSETTO:-0500
TZNAME:EST
DTSTART:20251102T060000
END:STANDARD
BEGIN:DAYLIGHT
TZOFFSETFROM:-0500
TZOFFSETTO:-0400
TZNAME:EDT
DTSTART:20260308T070000
END:DAYLIGHT
BEGIN:STANDARD
TZOFFSETFROM:-0400
TZOFFSETTO:-0500
TZNAME:EST
DTSTART:20261101T060000
END:STANDARD
BEGIN:DAYLIGHT
TZOFFSETFROM:-0500
TZOFFSETTO:-0400
TZNAME:EDT
DTSTART:20270314T070000
END:DAYLIGHT
BEGIN:STANDARD
TZOFFSETFROM:-0400
TZOFFSETTO:-0500
TZNAME:EST
DTSTART:20271107T060000
END:STANDARD
END:VTIMEZONE
BEGIN:VEVENT
DTSTART;TZID=America/New_York:20260423T120000
DTEND;TZID=America/New_York:20260423T130000
DTSTAMP:20260423T042227
CREATED:20260323T045826Z
LAST-MODIFIED:20260323T045826Z
UID:13635-1776945600-1776949200@www.progressivemass.com
SUMMARY:"Power Lunch" Phone Bank with Progressive Mass: 4/23/2026
DESCRIPTION:“Power Lunch” Phone Bank with Progressive Mass: 4/23/2026\nWhat comes after calling your state rep and state senator? Getting others to do so as well. \nJoin Progressive Mass for our “Power Lunch” phone bank series\, where we will be building our collective power in service of a better Commonwealth for all. \nWe’ll be calling voters about contacting their state legislators about key issues.
URL:https://www.progressivemass.com/event/power-lunch-phone-bank-with-progressive-mass-4-234-2026/
LOCATION:Zoom
END:VEVENT
END:VCALENDAR