BEGIN:VCALENDAR
VERSION:2.0
PRODID:-//Progressive Mass - ECPv6.15.20//NONSGML v1.0//EN
CALSCALE:GREGORIAN
METHOD:PUBLISH
X-ORIGINAL-URL:https://www.progressivemass.com
X-WR-CALDESC:Events for Progressive Mass
REFRESH-INTERVAL;VALUE=DURATION:PT1H
X-Robots-Tag:noindex
X-PUBLISHED-TTL:PT1H
BEGIN:VTIMEZONE
TZID:America/New_York
BEGIN:DAYLIGHT
TZOFFSETFROM:-0500
TZOFFSETTO:-0400
TZNAME:EDT
DTSTART:20230312T070000
END:DAYLIGHT
BEGIN:STANDARD
TZOFFSETFROM:-0400
TZOFFSETTO:-0500
TZNAME:EST
DTSTART:20231105T060000
END:STANDARD
BEGIN:DAYLIGHT
TZOFFSETFROM:-0500
TZOFFSETTO:-0400
TZNAME:EDT
DTSTART:20240310T070000
END:DAYLIGHT
BEGIN:STANDARD
TZOFFSETFROM:-0400
TZOFFSETTO:-0500
TZNAME:EST
DTSTART:20241103T060000
END:STANDARD
BEGIN:DAYLIGHT
TZOFFSETFROM:-0500
TZOFFSETTO:-0400
TZNAME:EDT
DTSTART:20250309T070000
END:DAYLIGHT
BEGIN:STANDARD
TZOFFSETFROM:-0400
TZOFFSETTO:-0500
TZNAME:EST
DTSTART:20251102T060000
END:STANDARD
END:VTIMEZONE
BEGIN:VEVENT
DTSTART;TZID=America/New_York:20241010T180000
DTEND;TZID=America/New_York:20241010T200000
DTSTAMP:20260424T115048
CREATED:20241004T152240Z
LAST-MODIFIED:20241004T152753Z
UID:10680-1728583200-1728590400@www.progressivemass.com
SUMMARY:Film Viewing & Discussion: Stewart Udall: The Politics of Beauty
DESCRIPTION:Environmental Justice film screening October 10 \nThe film “Stewart Udall and the Politics of Beauty.” tells the inspiring story of Stewart L. Udall (1920-2010) and his legacy as an advocate of social and environmental justice.  No American political figure is as relevant to the issues we face today as a nation – learning to work together\, achieving racial and environmental justice\, improving international relations\, enhancing beauty and the arts\, alleviating climate change and moving toward sustainability – as Stewart Udall\, Secretary of the Interior under Presidents Kennedy and Johnson. \nUdall was a pioneer in environmentalism; he was the first public official to speak out about global warming.  He worked collaboratively with native communities and fought to win compensation for Navajo Indians and “downwinders” who got cancer from their exposure to radiation during the Cold War without being warned of the dangers. Today\, in our now deeply partisan environment\, the film reveals a time when Americans were not yet so polarized\, when big ideas could still capture bipartisan attention\, and when America awakened to the unfolding destruction of paradise and determined to stop it. \nRace Reels\, Progressive Watertown and Watertown Faces Climate Change are proud to be sponsoring this film in this season of celebrating Indigenous people and contemplating our national election.  Join us at the Watertown Library on Thursday\, October 10 for pizza at 6\, film at 6:30 followed by discussion with Britteny Jenkins\, Vice President of Environmental Justice at the Conservation Law Foundation. \nFree to the Public. Sponsored by Race Reels\, Progressive Watertown\, and Watertown Faces Climate Change.
URL:https://www.progressivemass.com/event/film-viewing-discussion-stewart-udall-the-politics-of-beauty/
LOCATION:Watertown Public Library\, 123 Main Street\, Watertown\, MA
END:VEVENT
END:VCALENDAR